Package: MAGeCKFlute Version: 2.3.0 Command: /home/biocbuild/bbs-3.17-bioc/R/bin/R CMD check --install=check:MAGeCKFlute.install-out.txt --library=/home/biocbuild/bbs-3.17-bioc/R/site-library --timings MAGeCKFlute_2.3.0.tar.gz StartedAt: 2023-04-11 21:16:58 -0400 (Tue, 11 Apr 2023) EndedAt: 2023-04-11 21:24:47 -0400 (Tue, 11 Apr 2023) EllapsedTime: 469.0 seconds RetCode: 0 Status: OK CheckDir: MAGeCKFlute.Rcheck Warnings: 0