Package: MBttest Version: 1.27.0 Command: /home/biocbuild/bbs-3.17-bioc/R/bin/R CMD build --keep-empty-dirs --no-resave-data MBttest StartedAt: 2023-04-11 16:56:39 -0400 (Tue, 11 Apr 2023) EndedAt: 2023-04-11 16:56:56 -0400 (Tue, 11 Apr 2023) EllapsedTime: 17.2 seconds RetCode: 0 Status: OK PackageFile: MBttest_1.27.0.tar.gz PackageFileSize: 3.447 MiB