Package: MEAL Version: 1.29.0 Command: /home/biocbuild/bbs-3.17-bioc/R/bin/R CMD build --keep-empty-dirs --no-resave-data MEAL StartedAt: 2023-04-11 16:56:57 -0400 (Tue, 11 Apr 2023) EndedAt: 2023-04-11 17:03:09 -0400 (Tue, 11 Apr 2023) EllapsedTime: 371.2 seconds RetCode: 0 Status: OK PackageFile: MEAL_1.29.0.tar.gz PackageFileSize: 1.883 MiB