Package: MEAL Version: 1.29.0 Command: /home/biocbuild/bbs-3.17-bioc/R/bin/R CMD INSTALL MEAL StartedAt: 2023-04-11 15:43:21 -0400 (Tue, 11 Apr 2023) EndedAt: 2023-04-11 15:44:03 -0400 (Tue, 11 Apr 2023) EllapsedTime: 41.6 seconds RetCode: 0 Status: OK