Package: MEAL Version: 1.29.0 Command: /home/biocbuild/bbs-3.17-bioc/R/bin/R CMD build --keep-empty-dirs --no-resave-data MEAL StartedAt: 2023-04-12 03:13:54 -0400 (Wed, 12 Apr 2023) EndedAt: 2023-04-12 03:19:43 -0400 (Wed, 12 Apr 2023) EllapsedTime: 349.4 seconds RetCode: 0 Status: OK PackageFile: MEAL_1.29.0.tar.gz PackageFileSize: 1.883 MiB