Package: MGFR Version: 1.25.0 Command: /home/biocbuild/bbs-3.17-bioc/R/bin/R CMD build --keep-empty-dirs --no-resave-data MGFR StartedAt: 2023-04-11 17:01:47 -0400 (Tue, 11 Apr 2023) EndedAt: 2023-04-11 17:02:23 -0400 (Tue, 11 Apr 2023) EllapsedTime: 36.1 seconds RetCode: 0 Status: OK PackageFile: MGFR_1.25.0.tar.gz PackageFileSize: 1.631 MiB