git_url: https://git.bioconductor.org/packages/MSPrep git_branch: devel git_last_commit: f85dbb7 git_last_commit_date: 2022-11-01 11:23:00 -0400 (Tue, 01 Nov 2022) Package: MSPrep Version: 1.9.0 Maintainer: Max McGrath MaintainerEmail: max.mcgrath at ucdenver.edu