Package: MSPrep Version: 1.9.0 Command: /home/biocbuild/bbs-3.17-bioc/R/bin/R CMD build --keep-empty-dirs --no-resave-data MSPrep StartedAt: 2023-04-11 17:09:08 -0400 (Tue, 11 Apr 2023) EndedAt: 2023-04-11 17:11:18 -0400 (Tue, 11 Apr 2023) EllapsedTime: 130.1 seconds RetCode: 0 Status: OK PackageFile: MSPrep_1.9.0.tar.gz PackageFileSize: 1.559 MiB