Package: MSPrep Version: 1.9.0 Command: /home/biocbuild/bbs-3.17-bioc/R/bin/R CMD check --install=check:MSPrep.install-out.txt --library=/home/biocbuild/bbs-3.17-bioc/R/site-library --timings MSPrep_1.9.0.tar.gz StartedAt: 2023-04-11 21:49:37 -0400 (Tue, 11 Apr 2023) EndedAt: 2023-04-11 21:58:26 -0400 (Tue, 11 Apr 2023) EllapsedTime: 529.4 seconds RetCode: 0 Status: OK CheckDir: MSPrep.Rcheck Warnings: 0