Package: MSstatsPTM Version: 2.1.3 Command: /home/biocbuild/bbs-3.17-bioc/R/bin/R CMD build --keep-empty-dirs --no-resave-data MSstatsPTM StartedAt: 2023-04-11 17:09:39 -0400 (Tue, 11 Apr 2023) EndedAt: 2023-04-11 17:10:53 -0400 (Tue, 11 Apr 2023) EllapsedTime: 73.1 seconds RetCode: 0 Status: OK PackageFile: MSstatsPTM_2.1.3.tar.gz PackageFileSize: 1.774 MiB