Package: MSstatsQC Version: 2.17.0 Command: /home/biocbuild/bbs-3.17-bioc/R/bin/R CMD check --install=check:MSstatsQC.install-out.txt --library=/home/biocbuild/bbs-3.17-bioc/R/site-library --timings MSstatsQC_2.17.0.tar.gz StartedAt: 2023-04-11 21:50:34 -0400 (Tue, 11 Apr 2023) EndedAt: 2023-04-11 21:53:15 -0400 (Tue, 11 Apr 2023) EllapsedTime: 161.8 seconds RetCode: 0 Status: OK CheckDir: MSstatsQC.Rcheck Warnings: 0