Package: MSstatsShiny Version: 1.1.10 Command: /home/biocbuild/bbs-3.17-bioc/R/bin/R CMD build --keep-empty-dirs --no-resave-data MSstatsShiny StartedAt: 2023-04-12 03:24:56 -0400 (Wed, 12 Apr 2023) EndedAt: 2023-04-12 03:25:36 -0400 (Wed, 12 Apr 2023) EllapsedTime: 40.2 seconds RetCode: 0 Status: OK PackageFile: MSstatsShiny_1.1.10.tar.gz PackageFileSize: 1.094 MiB