Package: MSstatsTMT Version: 2.7.1 Command: /home/biocbuild/bbs-3.17-bioc/R/bin/R CMD INSTALL MSstatsTMT StartedAt: 2023-04-12 01:55:50 -0400 (Wed, 12 Apr 2023) EndedAt: 2023-04-12 01:56:05 -0400 (Wed, 12 Apr 2023) EllapsedTime: 15.0 seconds RetCode: 0 Status: OK