Package: MatrixQCvis Version: 1.7.4 Command: /home/biocbuild/bbs-3.17-bioc/R/bin/R CMD check --install=check:MatrixQCvis.install-out.txt --library=/home/biocbuild/bbs-3.17-bioc/R/site-library --timings MatrixQCvis_1.7.4.tar.gz StartedAt: 2023-04-12 07:13:57 -0400 (Wed, 12 Apr 2023) EndedAt: 2023-04-12 07:19:48 -0400 (Wed, 12 Apr 2023) EllapsedTime: 351.0 seconds RetCode: 1 Status: ERROR CheckDir: MatrixQCvis.Rcheck Warnings: NA