Package: MatrixQCvis Version: 1.7.4 Command: /home/biocbuild/bbs-3.17-bioc/R/bin/R CMD INSTALL MatrixQCvis StartedAt: 2023-04-12 02:06:21 -0400 (Wed, 12 Apr 2023) EndedAt: 2023-04-12 02:07:12 -0400 (Wed, 12 Apr 2023) EllapsedTime: 50.0 seconds RetCode: 0 Status: OK