Package: MethReg Version: 1.9.0 Command: /home/biocbuild/bbs-3.17-bioc/R/bin/R CMD build --keep-empty-dirs --no-resave-data MethReg StartedAt: 2023-04-11 16:59:31 -0400 (Tue, 11 Apr 2023) EndedAt: 2023-04-11 17:03:38 -0400 (Tue, 11 Apr 2023) EllapsedTime: 246.8 seconds RetCode: 0 Status: OK PackageFile: MethReg_1.9.0.tar.gz PackageFileSize: 5.13 MiB