Package: MultiAssayExperiment Version: 1.25.9 Command: /home/biocbuild/bbs-3.17-bioc/R/bin/R CMD build --keep-empty-dirs --no-resave-data MultiAssayExperiment StartedAt: 2023-04-11 17:10:00 -0400 (Tue, 11 Apr 2023) EndedAt: 2023-04-11 17:10:59 -0400 (Tue, 11 Apr 2023) EllapsedTime: 59.2 seconds RetCode: 0 Status: OK PackageFile: MultiAssayExperiment_1.25.9.tar.gz PackageFileSize: 1.125 MiB