Package: MultiAssayExperiment Version: 1.25.9 Command: /home/biocbuild/bbs-3.17-bioc/R/bin/R CMD build --keep-empty-dirs --no-resave-data MultiAssayExperiment StartedAt: 2023-04-12 03:25:09 -0400 (Wed, 12 Apr 2023) EndedAt: 2023-04-12 03:26:16 -0400 (Wed, 12 Apr 2023) EllapsedTime: 67.3 seconds RetCode: 0 Status: OK PackageFile: MultiAssayExperiment_1.25.9.tar.gz PackageFileSize: 1.125 MiB