Package: MultiAssayExperiment Version: 1.25.9 Command: /home/biocbuild/bbs-3.17-bioc/R/bin/R CMD check --install=check:MultiAssayExperiment.install-out.txt --library=/home/biocbuild/bbs-3.17-bioc/R/site-library --timings MultiAssayExperiment_1.25.9.tar.gz StartedAt: 2023-04-12 07:45:27 -0400 (Wed, 12 Apr 2023) EndedAt: 2023-04-12 07:50:35 -0400 (Wed, 12 Apr 2023) EllapsedTime: 307.8 seconds RetCode: 0 Status: OK CheckDir: MultiAssayExperiment.Rcheck Warnings: 0