Package: MutationalPatterns Version: 3.9.1 Command: /home/biocbuild/bbs-3.17-bioc/R/bin/R CMD check --install=check:MutationalPatterns.install-out.txt --library=/home/biocbuild/bbs-3.17-bioc/R/site-library --timings MutationalPatterns_3.9.1.tar.gz StartedAt: 2023-04-11 21:53:51 -0400 (Tue, 11 Apr 2023) EndedAt: 2023-04-11 22:16:32 -0400 (Tue, 11 Apr 2023) EllapsedTime: 1360.3 seconds RetCode: 0 Status: OK CheckDir: MutationalPatterns.Rcheck Warnings: 0