Package: MutationalPatterns Version: 3.9.1 Command: /home/biocbuild/bbs-3.17-bioc/R/bin/R CMD check --install=check:MutationalPatterns.install-out.txt --library=/home/biocbuild/bbs-3.17-bioc/R/site-library --timings MutationalPatterns_3.9.1.tar.gz StartedAt: 2023-04-12 07:48:13 -0400 (Wed, 12 Apr 2023) EndedAt: 2023-04-12 08:13:12 -0400 (Wed, 12 Apr 2023) EllapsedTime: 1498.6 seconds RetCode: 1 Status: ERROR CheckDir: MutationalPatterns.Rcheck Warnings: NA