git_url: https://git.bioconductor.org/packages/OLIN git_branch: devel git_last_commit: 8feaa36 git_last_commit_date: 2022-11-01 10:37:43 -0400 (Tue, 01 Nov 2022) Package: OLIN Version: 1.77.0 Maintainer: Matthias Futschik MaintainerEmail: mfutschik at ualg.pt