Package: ORFhunteR Version: 1.7.0 Command: /home/biocbuild/bbs-3.17-bioc/R/bin/R CMD check --install=check:ORFhunteR.install-out.txt --library=/home/biocbuild/bbs-3.17-bioc/R/site-library --timings ORFhunteR_1.7.0.tar.gz StartedAt: 2023-04-11 22:08:52 -0400 (Tue, 11 Apr 2023) EndedAt: 2023-04-11 22:22:08 -0400 (Tue, 11 Apr 2023) EllapsedTime: 796.7 seconds RetCode: 0 Status: OK CheckDir: ORFhunteR.Rcheck Warnings: 0