Package: ORFhunteR Version: 1.7.0 Command: /home/biocbuild/bbs-3.17-bioc/R/bin/R CMD INSTALL ORFhunteR StartedAt: 2023-04-11 15:14:32 -0400 (Tue, 11 Apr 2023) EndedAt: 2023-04-11 15:15:21 -0400 (Tue, 11 Apr 2023) EllapsedTime: 48.9 seconds RetCode: 0 Status: OK