Package: PCAN Version: 1.27.0 Command: /home/biocbuild/bbs-3.17-bioc/R/bin/R CMD build --keep-empty-dirs --no-resave-data PCAN StartedAt: 2023-04-12 03:39:31 -0400 (Wed, 12 Apr 2023) EndedAt: 2023-04-12 03:41:36 -0400 (Wed, 12 Apr 2023) EllapsedTime: 124.5 seconds RetCode: 0 Status: OK PackageFile: PCAN_1.27.0.tar.gz PackageFileSize: 2.442 MiB