Package: PCAN Version: 1.27.0 Command: /home/biocbuild/bbs-3.17-bioc/R/bin/R CMD check --install=check:PCAN.install-out.txt --library=/home/biocbuild/bbs-3.17-bioc/R/site-library --timings PCAN_1.27.0.tar.gz StartedAt: 2023-04-12 08:14:38 -0400 (Wed, 12 Apr 2023) EndedAt: 2023-04-12 08:22:36 -0400 (Wed, 12 Apr 2023) EllapsedTime: 477.4 seconds RetCode: 0 Status: OK CheckDir: PCAN.Rcheck Warnings: 0