git_url: https://git.bioconductor.org/packages/PFP git_branch: devel git_last_commit: c11fb9c git_last_commit_date: 2022-11-01 11:23:44 -0400 (Tue, 01 Nov 2022) Package: PFP Version: 1.7.0 Maintainer: XC Zhang MaintainerEmail: kunghero at 163.com