git_url: https://git.bioconductor.org/packages/POWSC git_branch: devel git_last_commit: 4b5f880 git_last_commit_date: 2022-11-01 11:24:55 -0400 (Tue, 01 Nov 2022) Package: POWSC Version: 1.7.0 Maintainer: Kenong Su MaintainerEmail: kenong.su at emory.edu