Package: POWSC Version: 1.7.0 Command: /home/biocbuild/bbs-3.17-bioc/R/bin/R CMD check --install=check:POWSC.install-out.txt --library=/home/biocbuild/bbs-3.17-bioc/R/site-library --timings POWSC_1.7.0.tar.gz StartedAt: 2023-04-11 22:35:10 -0400 (Tue, 11 Apr 2023) EndedAt: 2023-04-11 22:40:50 -0400 (Tue, 11 Apr 2023) EllapsedTime: 339.7 seconds RetCode: 0 Status: OK CheckDir: POWSC.Rcheck Warnings: 0