Package: PSEA Version: 1.33.0 Command: /home/biocbuild/bbs-3.17-bioc/R/bin/R CMD build --keep-empty-dirs --no-resave-data PSEA StartedAt: 2023-04-11 17:33:48 -0400 (Tue, 11 Apr 2023) EndedAt: 2023-04-11 17:34:50 -0400 (Tue, 11 Apr 2023) EllapsedTime: 62.1 seconds RetCode: 0 Status: OK PackageFile: PSEA_1.33.0.tar.gz PackageFileSize: 6.12 MiB