Package: RMassBank Version: 3.9.0 Command: /home/biocbuild/bbs-3.17-bioc/R/bin/R CMD INSTALL RMassBank StartedAt: 2023-04-11 15:35:29 -0400 (Tue, 11 Apr 2023) EndedAt: 2023-04-11 15:35:55 -0400 (Tue, 11 Apr 2023) EllapsedTime: 26.2 seconds RetCode: 0 Status: OK