Package: RPA Version: 1.55.2 Command: /home/biocbuild/bbs-3.17-bioc/R/bin/R CMD check --install=check:RPA.install-out.txt --library=/home/biocbuild/bbs-3.17-bioc/R/site-library --timings RPA_1.55.2.tar.gz StartedAt: 2023-04-11 23:08:28 -0400 (Tue, 11 Apr 2023) EndedAt: 2023-04-11 23:10:58 -0400 (Tue, 11 Apr 2023) EllapsedTime: 150.6 seconds RetCode: 0 Status: OK CheckDir: RPA.Rcheck Warnings: 0