Package: RSeqAn Version: 1.19.0 Command: /home/biocbuild/bbs-3.17-bioc/R/bin/R CMD check --install=check:RSeqAn.install-out.txt --library=/home/biocbuild/bbs-3.17-bioc/R/site-library --timings RSeqAn_1.19.0.tar.gz StartedAt: 2023-04-11 23:11:28 -0400 (Tue, 11 Apr 2023) EndedAt: 2023-04-11 23:11:55 -0400 (Tue, 11 Apr 2023) EllapsedTime: 26.3 seconds RetCode: 0 Status: OK CheckDir: RSeqAn.Rcheck Warnings: 0