Package: RSeqAn Version: 1.19.0 Command: /home/biocbuild/bbs-3.17-bioc/R/bin/R CMD build --keep-empty-dirs --no-resave-data RSeqAn StartedAt: 2023-04-12 04:01:01 -0400 (Wed, 12 Apr 2023) EndedAt: 2023-04-12 04:01:25 -0400 (Wed, 12 Apr 2023) EllapsedTime: 23.1 seconds RetCode: 0 Status: OK PackageFile: RSeqAn_1.19.0.tar.gz PackageFileSize: 1.62 MiB