Package: Rbec Version: 1.7.0 Command: /home/biocbuild/bbs-3.17-bioc/R/bin/R CMD build --keep-empty-dirs --no-resave-data Rbec StartedAt: 2023-04-11 17:37:41 -0400 (Tue, 11 Apr 2023) EndedAt: 2023-04-11 17:39:00 -0400 (Tue, 11 Apr 2023) EllapsedTime: 79.6 seconds RetCode: 0 Status: OK PackageFile: Rbec_1.7.0.tar.gz PackageFileSize: 1.467 MiB