Package: Rbec Version: 1.7.0 Command: /home/biocbuild/bbs-3.17-bioc/R/bin/R CMD INSTALL Rbec StartedAt: 2023-04-11 15:16:19 -0400 (Tue, 11 Apr 2023) EndedAt: 2023-04-11 15:17:02 -0400 (Tue, 11 Apr 2023) EllapsedTime: 43.2 seconds RetCode: 0 Status: OK