Package: Repitools Version: 1.45.0 Command: /home/biocbuild/bbs-3.17-bioc/R/bin/R CMD check --install=check:Repitools.install-out.txt --library=/home/biocbuild/bbs-3.17-bioc/R/site-library --timings Repitools_1.45.0.tar.gz StartedAt: 2023-04-12 08:45:18 -0400 (Wed, 12 Apr 2023) EndedAt: 2023-04-12 08:55:47 -0400 (Wed, 12 Apr 2023) EllapsedTime: 629.9 seconds RetCode: 0 Status: WARNINGS CheckDir: Repitools.Rcheck Warnings: 1