Package: Repitools Version: 1.45.0 Command: /home/biocbuild/bbs-3.17-bioc/R/bin/R CMD INSTALL Repitools StartedAt: 2023-04-12 01:58:27 -0400 (Wed, 12 Apr 2023) EndedAt: 2023-04-12 01:59:25 -0400 (Wed, 12 Apr 2023) EllapsedTime: 58.9 seconds RetCode: 0 Status: OK