Package: ReportingTools Version: 2.39.0 Command: /home/biocbuild/bbs-3.17-bioc/R/bin/R CMD INSTALL ReportingTools StartedAt: 2023-04-12 01:55:54 -0400 (Wed, 12 Apr 2023) EndedAt: 2023-04-12 01:57:02 -0400 (Wed, 12 Apr 2023) EllapsedTime: 68.3 seconds RetCode: 0 Status: OK