git_url: https://git.bioconductor.org/packages/Rhtslib git_branch: devel git_last_commit: 6d2b979 git_last_commit_date: 2023-03-23 16:28:35 -0400 (Thu, 23 Mar 2023) Package: Rhtslib Version: 2.1.1 Maintainer: Hervé Pagès MaintainerEmail: hpages.on.github at gmail.com