Package: Rtreemix Version: 1.61.0 Command: /home/biocbuild/bbs-3.17-bioc/R/bin/R CMD build --keep-empty-dirs --no-resave-data Rtreemix StartedAt: 2023-04-11 17:48:34 -0400 (Tue, 11 Apr 2023) EndedAt: 2023-04-11 17:49:26 -0400 (Tue, 11 Apr 2023) EllapsedTime: 52.0 seconds RetCode: 0 Status: OK PackageFile: Rtreemix_1.61.0.tar.gz PackageFileSize: 673.8 KiB