Package: Rtreemix Version: 1.61.0 Command: /home/biocbuild/bbs-3.17-bioc/R/bin/R CMD build --keep-empty-dirs --no-resave-data Rtreemix StartedAt: 2023-04-12 04:01:25 -0400 (Wed, 12 Apr 2023) EndedAt: 2023-04-12 04:02:24 -0400 (Wed, 12 Apr 2023) EllapsedTime: 59.8 seconds RetCode: 0 Status: OK PackageFile: Rtreemix_1.61.0.tar.gz PackageFileSize: 672.9 KiB