Package: Rtreemix Version: 1.61.0 Command: /home/biocbuild/bbs-3.17-bioc/R/bin/R CMD INSTALL Rtreemix StartedAt: 2023-04-12 01:48:01 -0400 (Wed, 12 Apr 2023) EndedAt: 2023-04-12 01:49:23 -0400 (Wed, 12 Apr 2023) EllapsedTime: 82.7 seconds RetCode: 0 Status: OK