Package: SGSeq Version: 1.33.0 Command: /home/biocbuild/bbs-3.17-bioc/R/bin/R CMD build --keep-empty-dirs --no-resave-data SGSeq StartedAt: 2023-04-11 17:59:15 -0400 (Tue, 11 Apr 2023) EndedAt: 2023-04-11 18:02:26 -0400 (Tue, 11 Apr 2023) EllapsedTime: 191.4 seconds RetCode: 0 Status: OK PackageFile: SGSeq_1.33.0.tar.gz PackageFileSize: 1.714 MiB