Package: SIM Version: 1.69.0 Command: /home/biocbuild/bbs-3.17-bioc/R/bin/R CMD INSTALL SIM StartedAt: 2023-04-12 01:57:02 -0400 (Wed, 12 Apr 2023) EndedAt: 2023-04-12 01:57:30 -0400 (Wed, 12 Apr 2023) EllapsedTime: 28.3 seconds RetCode: 0 Status: OK