Package: SNPRelate Version: 1.33.2 Command: /home/biocbuild/bbs-3.17-bioc/R/bin/R CMD build --keep-empty-dirs --no-resave-data SNPRelate StartedAt: 2023-04-11 18:03:14 -0400 (Tue, 11 Apr 2023) EndedAt: 2023-04-11 18:04:03 -0400 (Tue, 11 Apr 2023) EllapsedTime: 48.8 seconds RetCode: 0 Status: OK PackageFile: SNPRelate_1.33.2.tar.gz PackageFileSize: 3.043 MiB