Package: SNPRelate Version: 1.33.2 Command: /home/biocbuild/bbs-3.17-bioc/R/bin/R CMD check --install=check:SNPRelate.install-out.txt --library=/home/biocbuild/bbs-3.17-bioc/R/site-library --timings SNPRelate_1.33.2.tar.gz StartedAt: 2023-04-11 23:43:04 -0400 (Tue, 11 Apr 2023) EndedAt: 2023-04-11 23:45:11 -0400 (Tue, 11 Apr 2023) EllapsedTime: 126.3 seconds RetCode: 0 Status: OK CheckDir: SNPRelate.Rcheck Warnings: 0