Package: SNPRelate Version: 1.33.2 Command: /home/biocbuild/bbs-3.17-bioc/R/bin/R CMD INSTALL SNPRelate StartedAt: 2023-04-12 01:35:51 -0400 (Wed, 12 Apr 2023) EndedAt: 2023-04-12 01:36:29 -0400 (Wed, 12 Apr 2023) EllapsedTime: 37.9 seconds RetCode: 0 Status: OK