Package: SPOTlight Version: 1.3.0 Command: /home/biocbuild/bbs-3.17-bioc/R/bin/R CMD INSTALL SPOTlight StartedAt: 2023-04-11 15:16:48 -0400 (Tue, 11 Apr 2023) EndedAt: 2023-04-11 15:17:11 -0400 (Tue, 11 Apr 2023) EllapsedTime: 23.5 seconds RetCode: 0 Status: OK