Package: SRAdb Version: 1.61.0 Command: /home/biocbuild/bbs-3.17-bioc/R/bin/R CMD build --keep-empty-dirs --no-resave-data SRAdb StartedAt: 2023-04-12 04:18:20 -0400 (Wed, 12 Apr 2023) EndedAt: 2023-04-12 04:18:34 -0400 (Wed, 12 Apr 2023) EllapsedTime: 13.0 seconds RetCode: 0 Status: OK PackageFile: SRAdb_1.61.0.tar.gz PackageFileSize: 765.8 KiB